BEGIN:VCALENDAR
VERSION:2.0
PRODID:-//University of Birmingham UNISON - ECPv6.15.20//NONSGML v1.0//EN
CALSCALE:GREGORIAN
METHOD:PUBLISH
X-ORIGINAL-URL:https://uobunison.org.uk
X-WR-CALDESC:Events for University of Birmingham UNISON
REFRESH-INTERVAL;VALUE=DURATION:PT1H
X-Robots-Tag:noindex
X-PUBLISHED-TTL:PT1H
BEGIN:VTIMEZONE
TZID:UTC
BEGIN:STANDARD
TZOFFSETFROM:+0000
TZOFFSETTO:+0000
TZNAME:UTC
DTSTART:20180101T000000
END:STANDARD
END:VTIMEZONE
BEGIN:VEVENT
DTSTART;TZID=UTC:20191024T083000
DTEND;TZID=UTC:20191024T093000
DTSTAMP:20260421T144002
CREATED:20191020T193739Z
LAST-MODIFIED:20191020T193739Z
UID:3010-1571905800-1571909400@uobunison.org.uk
SUMMARY:Members' meeting - Thu 24th Oct 8.30am\, Nuffield G13
DESCRIPTION:
URL:https://uobunison.org.uk/event/members-meeting-thu-24th-oct-8-30am-nuffield-g13
END:VEVENT
BEGIN:VEVENT
DTSTART;TZID=UTC:20191003T043000
DTEND;TZID=UTC:20191003T140000
DTSTAMP:20260421T144002
CREATED:20191001T121956Z
LAST-MODIFIED:20191001T121956Z
UID:2991-1570077000-1570111200@uobunison.org.uk
SUMMARY:6th day of Strike Action! Thu 3rd Oct
DESCRIPTION:
URL:https://uobunison.org.uk/event/6th-day-of-strike-action-thu-3rd-oct
END:VEVENT
BEGIN:VEVENT
DTSTART;TZID=UTC:20191001T080000
DTEND;TZID=UTC:20191002T170000
DTSTAMP:20260421T144002
CREATED:20190510T103826Z
LAST-MODIFIED:20190510T103826Z
UID:2228-1569916800-1570035600@uobunison.org.uk
SUMMARY:2019 Retired Members’ Conference - 1st - 2nd Oct
DESCRIPTION:https://www.unison.org.uk/events/2019-retired-members-conference/
URL:https://uobunison.org.uk/event/2019-retired-conference
END:VEVENT
BEGIN:VEVENT
DTSTART;VALUE=DATE:20190912
DTEND;VALUE=DATE:20190913
DTSTAMP:20260421T144002
CREATED:20190510T103625Z
LAST-MODIFIED:20190510T103625Z
UID:2226-1568246400-1568332799@uobunison.org.uk
SUMMARY:National UNISON Disabled LGBT members meeting 12th Sept
DESCRIPTION:https://www.unison.org.uk/events/national-unison-disabled-lgbt-members-meeting-4/
URL:https://uobunison.org.uk/event/national-unison-disabled-lgbt-members-meeting-12th-sept
END:VEVENT
BEGIN:VEVENT
DTSTART;VALUE=DATE:20190912
DTEND;VALUE=DATE:20190913
DTSTAMP:20260421T144002
CREATED:20190510T103525Z
LAST-MODIFIED:20190510T103525Z
UID:2224-1568246400-1568332799@uobunison.org.uk
SUMMARY:National UNISON Black LGBT members meeting 12th Sept
DESCRIPTION:https://www.unison.org.uk/events/national-unison-black-lgbt-members-meeting-4/
URL:https://uobunison.org.uk/event/national-unison-black-lgbt-members-meeting-12th-sept
END:VEVENT
BEGIN:VEVENT
DTSTART;TZID=UTC:20190902T080000
DTEND;TZID=UTC:20190903T170000
DTSTAMP:20260421T144002
CREATED:20190823T130618Z
LAST-MODIFIED:20190823T130619Z
UID:2902-1567411200-1567530000@uobunison.org.uk
SUMMARY:Strike Action: 2-3 September
DESCRIPTION:
URL:https://uobunison.org.uk/event/strike-action-2-3-september
END:VEVENT
BEGIN:VEVENT
DTSTART;TZID=UTC:20190828T123000
DTEND;TZID=UTC:20190828T133000
DTSTAMP:20260421T144002
CREATED:20190822T024838Z
LAST-MODIFIED:20190822T024839Z
UID:2897-1566995400-1566999000@uobunison.org.uk
SUMMARY:Picnic protest on the Green Heart (UoB campus)
DESCRIPTION:
URL:https://uobunison.org.uk/event/picnic-protest-on-the-green-heart-uob-campus
END:VEVENT
BEGIN:VEVENT
DTSTART;TZID=UTC:20190822T141500
DTEND;TZID=UTC:20190822T160000
DTSTAMP:20260421T144002
CREATED:20190821T221719Z
LAST-MODIFIED:20190821T221719Z
UID:2885-1566483300-1566489600@uobunison.org.uk
SUMMARY:Hotel Action Group meeting - 2.15pm
DESCRIPTION:
URL:https://uobunison.org.uk/event/hotel-action-group-meeting-2-15pm
END:VEVENT
BEGIN:VEVENT
DTSTART;TZID=UTC:20190822T123000
DTEND;TZID=UTC:20190822T133000
DTSTAMP:20260421T144002
CREATED:20190821T221632Z
LAST-MODIFIED:20190821T221632Z
UID:2883-1566477000-1566480600@uobunison.org.uk
SUMMARY:Members' meeting - 12.30pm
DESCRIPTION:
URL:https://uobunison.org.uk/event/members-meeting-12-30pm
END:VEVENT
BEGIN:VEVENT
DTSTART;TZID=UTC:20190822T091500
DTEND;TZID=UTC:20190822T103000
DTSTAMP:20260421T144002
CREATED:20190821T221521Z
LAST-MODIFIED:20190821T221521Z
UID:2881-1566465300-1566469800@uobunison.org.uk
SUMMARY:Members' meeting - 9.15am
DESCRIPTION:
URL:https://uobunison.org.uk/event/members-meeting-9-15am
END:VEVENT
BEGIN:VEVENT
DTSTART;TZID=UTC:20190814T123000
DTEND;TZID=UTC:20190814T133000
DTSTAMP:20260421T144002
CREATED:20190807T132706Z
LAST-MODIFIED:20190807T132810Z
UID:2856-1565785800-1565789400@uobunison.org.uk
SUMMARY:Protest picnic on the University of Birmingham's Green Heart (Wed 14th Aug 12.30pm) - bring your lunch!
DESCRIPTION:
URL:https://uobunison.org.uk/event/protest-picnic-on-the-university-of-birminghams-green-heart-wed-14th-aug-12-30pm-bring-your-lunch
END:VEVENT
BEGIN:VEVENT
DTSTART;VALUE=DATE:20190808
DTEND;VALUE=DATE:20190809
DTSTAMP:20260421T144002
CREATED:20190510T103405Z
LAST-MODIFIED:20190510T103405Z
UID:2222-1565222400-1565308799@uobunison.org.uk
SUMMARY:UNISON National Disabled Members Women’s caucus network meeting - 8th Aug
DESCRIPTION:https://www.unison.org.uk/events/unison-national-disabled-members-lgbt-caucus-network-meeting-2-cloned/
URL:https://uobunison.org.uk/event/unison-national-disabled-members-womens-caucus-network-meeting-8th-aug
END:VEVENT
BEGIN:VEVENT
DTSTART;VALUE=DATE:20190808
DTEND;VALUE=DATE:20190809
DTSTAMP:20260421T144002
CREATED:20190510T103149Z
LAST-MODIFIED:20190510T103149Z
UID:2219-1565222400-1565308799@uobunison.org.uk
SUMMARY:UNISON National Disabled Members Black caucus network meeting - 8th Aug
DESCRIPTION:https://www.unison.org.uk/events/unison-national-disabled-members-lgbt-caucus-network-meeting-2-cloned-cloned-cloned/
URL:https://uobunison.org.uk/event/unison-national-disabled-members-black-caucus-network-meeting-8th-aug
END:VEVENT
BEGIN:VEVENT
DTSTART;VALUE=DATE:20190807
DTEND;VALUE=DATE:20190808
DTSTAMP:20260421T144002
CREATED:20190510T102622Z
LAST-MODIFIED:20190510T103959Z
UID:2213-1565136000-1565222399@uobunison.org.uk
SUMMARY:UNISON National Deaf (BSL) Members network meeting 7 August 2019 10:00am–12:30pm
DESCRIPTION:https://www.unison.org.uk/events/unison-national-disabled-members-lgbt-caucus-network-meeting-2-cloned-cloned/
URL:https://uobunison.org.uk/event/unison-national-deaf-bsl-members-network-meeting-7-august-2019-1000am-1230pm
END:VEVENT
BEGIN:VEVENT
DTSTART;VALUE=DATE:20190807
DTEND;VALUE=DATE:20190808
DTSTAMP:20260421T144002
CREATED:20190510T103023Z
LAST-MODIFIED:20190821T221846Z
UID:2217-1565136000-1565222399@uobunison.org.uk
SUMMARY:UNISON National Disabled Members LGBT caucus network meeting\, 7th August
DESCRIPTION:7 August 2019 1:00pm–3:30pm \nUNISON\, UNISON Centre\, 130 Euston Road\, London NW1 2AY \nhttps://www.unison.org.uk/events/unison-national-disabled-members-lgbt-caucus-network-meeting-2/
URL:https://uobunison.org.uk/event/unison-national-disabled-members-lgbt-caucus-network-meeting-7th-august
END:VEVENT
BEGIN:VEVENT
DTSTART;TZID=UTC:20190803T123000
DTEND;TZID=UTC:20190803T123000
DTSTAMP:20260421T144002
CREATED:20190703T110502Z
LAST-MODIFIED:20190703T112103Z
UID:2557-1564835400-1564835400@uobunison.org.uk
SUMMARY:Members meeting (afternoon) Learning Centre LG14 12.30pm
DESCRIPTION:
URL:https://uobunison.org.uk/event/members-meeting-afternoon-learning-centre-lg14-12-30pm
END:VEVENT
BEGIN:VEVENT
DTSTART;TZID=UTC:20190716T043000
DTEND;TZID=UTC:20190717T170000
DTSTAMP:20260421T144002
CREATED:20190708T004610Z
LAST-MODIFIED:20190708T004640Z
UID:2641-1563251400-1563382800@uobunison.org.uk
SUMMARY:Strike Action - 16th & 17th of July - Don't go to work\, join the pickets instead!
DESCRIPTION:
URL:https://uobunison.org.uk/event/strike-action-16th-17th-of-july-dont-go-to-work-join-the-pickets-instead
END:VEVENT
BEGIN:VEVENT
DTSTART;TZID=UTC:20190704T091500
DTEND;TZID=UTC:20190704T101500
DTSTAMP:20260421T144002
CREATED:20190703T110412Z
LAST-MODIFIED:20190703T110412Z
UID:2555-1562231700-1562235300@uobunison.org.uk
SUMMARY:Members meeting (morning) - Nuffield G13 9.15am
DESCRIPTION:
URL:https://uobunison.org.uk/event/members-meeting-morning-nuffield-g13-9-15am
END:VEVENT
BEGIN:VEVENT
DTSTART;TZID=UTC:20190613T123000
DTEND;TZID=UTC:20190613T133000
DTSTAMP:20260421T144002
CREATED:20190606T151655Z
LAST-MODIFIED:20190606T151656Z
UID:2367-1560429000-1560432600@uobunison.org.uk
SUMMARY:Members' meeting (afternoon)
DESCRIPTION:Arts AThere will be members’ meetings on Thursday the 13th of June at 9:15am in Arts LR3 and 12:30pm in Arts LR5.  \nThese meetings will be everyone’s chance to have a say on how we use our tremendous strike ballot result and a motion will be circulated in advance. We will also be using the meeting to answer questions about strike action and to let you know about any last ditch negotiations with the University.
URL:https://uobunison.org.uk/event/members-meeting-afternoon-2
LOCATION:Arts LR5
END:VEVENT
BEGIN:VEVENT
DTSTART;TZID=UTC:20190613T091500
DTEND;TZID=UTC:20190613T103000
DTSTAMP:20260421T144002
CREATED:20190606T151536Z
LAST-MODIFIED:20190606T151536Z
UID:2364-1560417300-1560421800@uobunison.org.uk
SUMMARY:Members' meeting (morning)
DESCRIPTION:There will be members’ meetings on Thursday the 13th of June at 9:15am in Arts LR3 and 12:30pm in Arts LR5.  \nThese meetings will be everyone’s chance to have a say on how we use our tremendous strike ballot result and a motion will be circulated in advance. We will also be using the meeting to answer questions about strike action and to let you know about any last ditch negotiations with the University.
URL:https://uobunison.org.uk/event/members-meeting-morning-2
LOCATION:Arts LR3
END:VEVENT
BEGIN:VEVENT
DTSTART;TZID=UTC:20190605T123000
DTEND;TZID=UTC:20190605T133000
DTSTAMP:20260421T144002
CREATED:20190604T231205Z
LAST-MODIFIED:20190604T231205Z
UID:2350-1559737800-1559741400@uobunison.org.uk
SUMMARY:Our University Protest on the Green Heart
DESCRIPTION:The GThe
URL:https://uobunison.org.uk/event/our-university-protest-on-the-green-heart
END:VEVENT
BEGIN:VEVENT
DTSTART;TZID=UTC:20190530T123000
DTEND;TZID=UTC:20190530T133000
DTSTAMP:20260421T144002
CREATED:20190604T231356Z
LAST-MODIFIED:20190604T231356Z
UID:2353-1559219400-1559223000@uobunison.org.uk
SUMMARY:Living Wage Event with guest speaker Liam Byrne MP
DESCRIPTION:
URL:https://uobunison.org.uk/event/living-wage-event-with-guest-speaker-liam-byrne-mp
END:VEVENT
BEGIN:VEVENT
DTSTART;TZID=UTC:20190507T123000
DTEND;TZID=UTC:20190507T133000
DTSTAMP:20260421T144002
CREATED:20190427T201204Z
LAST-MODIFIED:20190430T102647Z
UID:2130-1557232200-1557235800@uobunison.org.uk
SUMMARY:Branch members' (afternoon) meeting 12.30 Strathcona LT1
DESCRIPTION:
URL:https://uobunison.org.uk/event/branch-members-afternoon-meeting
END:VEVENT
BEGIN:VEVENT
DTSTART;TZID=UTC:20190507T091500
DTEND;TZID=UTC:20190507T221500
DTSTAMP:20260421T144002
CREATED:20190427T201104Z
LAST-MODIFIED:20190430T104825Z
UID:2128-1557220500-1557267300@uobunison.org.uk
SUMMARY:Branch members' (morning) meeting - Strathcona LT2
DESCRIPTION:
URL:https://uobunison.org.uk/event/branch-members-morning-meeting
END:VEVENT
BEGIN:VEVENT
DTSTART;TZID=UTC:20190326T123000
DTEND;TZID=UTC:20190326T133000
DTSTAMP:20260421T144002
CREATED:20190320T120152Z
LAST-MODIFIED:20190320T120152Z
UID:2027-1553603400-1553607000@uobunison.org.uk
SUMMARY:Members' meeting (afternoon)
DESCRIPTION:715 Muirhead Tower
URL:https://uobunison.org.uk/event/members-meeting-afternoon
END:VEVENT
BEGIN:VEVENT
DTSTART;TZID=UTC:20190326T091500
DTEND;TZID=UTC:20190326T101500
DTSTAMP:20260421T144002
CREATED:20190320T120041Z
LAST-MODIFIED:20190320T120042Z
UID:2024-1553591700-1553595300@uobunison.org.uk
SUMMARY:Members' meeting (morning)
DESCRIPTION:121 Muirhead Tower
URL:https://uobunison.org.uk/event/members-meeting-morning
END:VEVENT
BEGIN:VEVENT
DTSTART;TZID=UTC:20190214T080000
DTEND;TZID=UTC:20190216T170000
DTSTAMP:20260421T144002
CREATED:20180813T150725Z
LAST-MODIFIED:20180813T150725Z
UID:1224-1550131200-1550336400@uobunison.org.uk
SUMMARY:2019 Women's Conference
DESCRIPTION:https://www.unison.org.uk/events/2019-womens-conference/
URL:https://uobunison.org.uk/event/2019-womens-conference-2
LOCATION:Bournemouth International Centre
END:VEVENT
BEGIN:VEVENT
DTSTART;TZID=UTC:20190214T080000
DTEND;TZID=UTC:20190216T170000
DTSTAMP:20260421T144002
CREATED:20180723T145841Z
LAST-MODIFIED:20180723T145841Z
UID:1116-1550131200-1550336400@uobunison.org.uk
SUMMARY:2019 Women’s Conference
DESCRIPTION:https://www.unison.org.uk/events/2019-womens-conference/
URL:https://uobunison.org.uk/event/2019-womens-conference
LOCATION:Bournemouth International Centre
END:VEVENT
BEGIN:VEVENT
DTSTART;TZID=UTC:20190213T123000
DTEND;TZID=UTC:20190213T150000
DTSTAMP:20260421T144002
CREATED:20190121T162955Z
LAST-MODIFIED:20190121T162955Z
UID:1939-1550061000-1550070000@uobunison.org.uk
SUMMARY:Annual General Meeting (elect your new committee for 2019/2020!) - free lunch from 12.30pm
DESCRIPTION:Arts LR1 (AGM – 1-3pm and lunch from 12.30pm) \nYou are entitled to two hours of paid time off to attend the AGM. Please make sure that you use it!
URL:https://uobunison.org.uk/event/annual-general-meeting-elect-your-new-committee-for-2019-2020-free-lunch-from-12-30pm
END:VEVENT
BEGIN:VEVENT
DTSTART;TZID=UTC:20190126T150000
DTEND;TZID=UTC:20190126T170000
DTSTAMP:20260421T144002
CREATED:20190121T163228Z
LAST-MODIFIED:20190121T163229Z
UID:1941-1548514800-1548522000@uobunison.org.uk
SUMMARY:Karaoke Afternoon @3pm
DESCRIPTION:You are invited to a karaoke afternoon at Karaoke Box in Birmingham. Please note this is not a karaoke bar\, you rent out the room and only sing in front of your group. Partners are welcome to join too! \nKaraoke at Karaoke Box\, Birmingham (http://website.karaokebox.co.uk/birmingham/) \nDate: Saturday 26th January \nTime: 3pm-5pm \nCost: £10 per person \nPRE-BOOKING IS ESSENTIAL \nPlease note: I will need to know if you are coming\, along with your payment of £10 by 4pm Friday 18th January! \nTo whet your appetite: http://website.karaokebox.co.uk/smithfield/wp-content/uploads/sites/9/2016/02/KB-Songlist-by-Title.pdf \nAlso\, please let me know if you fancy food before-hand (and if so\, any dietary requirement) and I’ll try and arrange something. Please do not hesitate to get in touch if you have any queries. \nClaire McHale – C.E.McHale@bham.ac.uk
URL:https://uobunison.org.uk/event/karaoke-afternoon-3pm
LOCATION:Karaoke Box\, Birmingham
END:VEVENT
END:VCALENDAR