BEGIN:VCALENDAR
VERSION:2.0
PRODID:-//University of Birmingham UNISON - ECPv6.15.20//NONSGML v1.0//EN
CALSCALE:GREGORIAN
METHOD:PUBLISH
X-WR-CALNAME:University of Birmingham UNISON
X-ORIGINAL-URL:https://uobunison.org.uk
X-WR-CALDESC:Events for University of Birmingham UNISON
REFRESH-INTERVAL;VALUE=DURATION:PT1H
X-Robots-Tag:noindex
X-PUBLISHED-TTL:PT1H
BEGIN:VTIMEZONE
TZID:UTC
BEGIN:STANDARD
TZOFFSETFROM:+0000
TZOFFSETTO:+0000
TZNAME:UTC
DTSTART:20170101T000000
END:STANDARD
END:VTIMEZONE
BEGIN:VEVENT
DTSTART;TZID=UTC:20190605T123000
DTEND;TZID=UTC:20190605T133000
DTSTAMP:20260421T174814
CREATED:20190604T231205Z
LAST-MODIFIED:20190604T231205Z
UID:2350-1559737800-1559741400@uobunison.org.uk
SUMMARY:Our University Protest on the Green Heart
DESCRIPTION:The GThe
URL:https://uobunison.org.uk/event/our-university-protest-on-the-green-heart
END:VEVENT
BEGIN:VEVENT
DTSTART;TZID=UTC:20190530T123000
DTEND;TZID=UTC:20190530T133000
DTSTAMP:20260421T174814
CREATED:20190604T231356Z
LAST-MODIFIED:20190604T231356Z
UID:2353-1559219400-1559223000@uobunison.org.uk
SUMMARY:Living Wage Event with guest speaker Liam Byrne MP
DESCRIPTION:
URL:https://uobunison.org.uk/event/living-wage-event-with-guest-speaker-liam-byrne-mp
END:VEVENT
BEGIN:VEVENT
DTSTART;TZID=UTC:20190507T123000
DTEND;TZID=UTC:20190507T133000
DTSTAMP:20260421T174814
CREATED:20190427T201204Z
LAST-MODIFIED:20190430T102647Z
UID:2130-1557232200-1557235800@uobunison.org.uk
SUMMARY:Branch members' (afternoon) meeting 12.30 Strathcona LT1
DESCRIPTION:
URL:https://uobunison.org.uk/event/branch-members-afternoon-meeting
END:VEVENT
BEGIN:VEVENT
DTSTART;TZID=UTC:20190507T091500
DTEND;TZID=UTC:20190507T221500
DTSTAMP:20260421T174814
CREATED:20190427T201104Z
LAST-MODIFIED:20190430T104825Z
UID:2128-1557220500-1557267300@uobunison.org.uk
SUMMARY:Branch members' (morning) meeting - Strathcona LT2
DESCRIPTION:
URL:https://uobunison.org.uk/event/branch-members-morning-meeting
END:VEVENT
BEGIN:VEVENT
DTSTART;TZID=UTC:20190326T123000
DTEND;TZID=UTC:20190326T133000
DTSTAMP:20260421T174814
CREATED:20190320T120152Z
LAST-MODIFIED:20190320T120152Z
UID:2027-1553603400-1553607000@uobunison.org.uk
SUMMARY:Members' meeting (afternoon)
DESCRIPTION:715 Muirhead Tower
URL:https://uobunison.org.uk/event/members-meeting-afternoon
END:VEVENT
BEGIN:VEVENT
DTSTART;TZID=UTC:20190326T091500
DTEND;TZID=UTC:20190326T101500
DTSTAMP:20260421T174814
CREATED:20190320T120041Z
LAST-MODIFIED:20190320T120042Z
UID:2024-1553591700-1553595300@uobunison.org.uk
SUMMARY:Members' meeting (morning)
DESCRIPTION:121 Muirhead Tower
URL:https://uobunison.org.uk/event/members-meeting-morning
END:VEVENT
BEGIN:VEVENT
DTSTART;TZID=UTC:20190214T080000
DTEND;TZID=UTC:20190216T170000
DTSTAMP:20260421T174814
CREATED:20180813T150725Z
LAST-MODIFIED:20180813T150725Z
UID:1224-1550131200-1550336400@uobunison.org.uk
SUMMARY:2019 Women's Conference
DESCRIPTION:https://www.unison.org.uk/events/2019-womens-conference/
URL:https://uobunison.org.uk/event/2019-womens-conference-2
LOCATION:Bournemouth International Centre
END:VEVENT
BEGIN:VEVENT
DTSTART;TZID=UTC:20190214T080000
DTEND;TZID=UTC:20190216T170000
DTSTAMP:20260421T174814
CREATED:20180723T145841Z
LAST-MODIFIED:20180723T145841Z
UID:1116-1550131200-1550336400@uobunison.org.uk
SUMMARY:2019 Women’s Conference
DESCRIPTION:https://www.unison.org.uk/events/2019-womens-conference/
URL:https://uobunison.org.uk/event/2019-womens-conference
LOCATION:Bournemouth International Centre
END:VEVENT
BEGIN:VEVENT
DTSTART;TZID=UTC:20190213T123000
DTEND;TZID=UTC:20190213T150000
DTSTAMP:20260421T174814
CREATED:20190121T162955Z
LAST-MODIFIED:20190121T162955Z
UID:1939-1550061000-1550070000@uobunison.org.uk
SUMMARY:Annual General Meeting (elect your new committee for 2019/2020!) - free lunch from 12.30pm
DESCRIPTION:Arts LR1 (AGM – 1-3pm and lunch from 12.30pm) \nYou are entitled to two hours of paid time off to attend the AGM. Please make sure that you use it!
URL:https://uobunison.org.uk/event/annual-general-meeting-elect-your-new-committee-for-2019-2020-free-lunch-from-12-30pm
END:VEVENT
BEGIN:VEVENT
DTSTART;TZID=UTC:20190126T150000
DTEND;TZID=UTC:20190126T170000
DTSTAMP:20260421T174814
CREATED:20190121T163228Z
LAST-MODIFIED:20190121T163229Z
UID:1941-1548514800-1548522000@uobunison.org.uk
SUMMARY:Karaoke Afternoon @3pm
DESCRIPTION:You are invited to a karaoke afternoon at Karaoke Box in Birmingham. Please note this is not a karaoke bar\, you rent out the room and only sing in front of your group. Partners are welcome to join too! \nKaraoke at Karaoke Box\, Birmingham (http://website.karaokebox.co.uk/birmingham/) \nDate: Saturday 26th January \nTime: 3pm-5pm \nCost: £10 per person \nPRE-BOOKING IS ESSENTIAL \nPlease note: I will need to know if you are coming\, along with your payment of £10 by 4pm Friday 18th January! \nTo whet your appetite: http://website.karaokebox.co.uk/smithfield/wp-content/uploads/sites/9/2016/02/KB-Songlist-by-Title.pdf \nAlso\, please let me know if you fancy food before-hand (and if so\, any dietary requirement) and I’ll try and arrange something. Please do not hesitate to get in touch if you have any queries. \nClaire McHale – C.E.McHale@bham.ac.uk
URL:https://uobunison.org.uk/event/karaoke-afternoon-3pm
LOCATION:Karaoke Box\, Birmingham
END:VEVENT
BEGIN:VEVENT
DTSTART;TZID=UTC:20190118T080000
DTEND;TZID=UTC:20190120T170000
DTSTAMP:20260421T174814
CREATED:20180723T145759Z
LAST-MODIFIED:20180723T145759Z
UID:1113-1547798400-1548003600@uobunison.org.uk
SUMMARY:2019 Black Members’ Conference
DESCRIPTION:https://www.unison.org.uk/events/2019-black-members-conference/
URL:https://uobunison.org.uk/event/2019-black-members-conference
LOCATION:Venue Cymru\, Llandudno
END:VEVENT
BEGIN:VEVENT
DTSTART;TZID=UTC:20190110T093000
DTEND;TZID=UTC:20190110T170000
DTSTAMP:20260421T174814
CREATED:20180723T145535Z
LAST-MODIFIED:20180723T145535Z
UID:1109-1547112600-1547139600@uobunison.org.uk
SUMMARY:2019 Higher Education Conference
DESCRIPTION:https://www.unison.org.uk/events/2019-higher-education-conference/
URL:https://uobunison.org.uk/event/2019-higher-education-conference
LOCATION:Crowne Plaza Hotel Wollaton Street Nottingham NG1 5RH
END:VEVENT
BEGIN:VEVENT
DTSTART;TZID=UTC:20181122T130000
DTEND;TZID=UTC:20181122T140000
DTSTAMP:20260421T174814
CREATED:20181115T154405Z
LAST-MODIFIED:20181115T154405Z
UID:1844-1542891600-1542895200@uobunison.org.uk
SUMMARY:Q&A with University of Birmingham students - The Dome LT\, Aston Webb
DESCRIPTION:
URL:https://uobunison.org.uk/event/qa-with-university-of-birmingham-students-the-dome-lt-aston-webb
END:VEVENT
BEGIN:VEVENT
DTSTART;TZID=UTC:20181122T120000
DTEND;TZID=UTC:20181122T130000
DTSTAMP:20260421T174814
CREATED:20181115T154200Z
LAST-MODIFIED:20181115T154218Z
UID:1839-1542888000-1542891600@uobunison.org.uk
SUMMARY:All staff meeting - The Dome LT\, Aston Webb
DESCRIPTION:In The Dome Lecture Theatre\, Aston Webb\, at 12pm
URL:https://uobunison.org.uk/event/all-staff-meeting-12pm
END:VEVENT
BEGIN:VEVENT
DTSTART;TZID=UTC:20181122T091500
DTEND;TZID=UTC:20181122T221500
DTSTAMP:20260421T174814
CREATED:20181115T154310Z
LAST-MODIFIED:20181115T154310Z
UID:1842-1542878100-1542924900@uobunison.org.uk
SUMMARY:Support Staff meeting - G13 Nuffield Building
DESCRIPTION:
URL:https://uobunison.org.uk/event/support-staff-meeting-g13-nuffield-building
END:VEVENT
BEGIN:VEVENT
DTSTART;TZID=UTC:20181116T080000
DTEND;TZID=UTC:20181118T170000
DTSTAMP:20260421T174814
CREATED:20180723T145424Z
LAST-MODIFIED:20180905T160040Z
UID:1107-1542355200-1542560400@uobunison.org.uk
SUMMARY:2018 LGBT Conference - Harrogate
DESCRIPTION:https://www.unison.org.uk/events/2018-lgbt-conference/
URL:https://uobunison.org.uk/event/2018-lgbt-conference
LOCATION:Harrogate International Centre\, King’s Rd\, Harrogate HG1 5LA
END:VEVENT
BEGIN:VEVENT
DTSTART;TZID=UTC:20181107T080000
DTEND;TZID=UTC:20181108T170000
DTSTAMP:20260421T174814
CREATED:20180723T144312Z
LAST-MODIFIED:20180723T144546Z
UID:1079-1541577600-1541696400@uobunison.org.uk
SUMMARY:Higher Education branch Seminar 2018 (Cardiff)
DESCRIPTION:Jurys Inn Cardiff \n  \nhttps://www.unison.org.uk/events/higher-education-branch-seminar-2/
URL:https://uobunison.org.uk/event/higher-education-branch-seminar
LOCATION:Jurys Inn Cardiff
END:VEVENT
BEGIN:VEVENT
DTSTART;TZID=UTC:20181103T110000
DTEND;TZID=UTC:20181103T150000
DTSTAMP:20260421T174814
CREATED:20180903T120523Z
LAST-MODIFIED:20180903T120558Z
UID:1290-1541242800-1541257200@uobunison.org.uk
SUMMARY:LGBT Self Organised Group Meeting - 24 Livery Street\, Birmingham
DESCRIPTION:Saturday 3 November (11am onwards) – introduction to Conference session\, discussion on motions.  Planning for LGBT History Month and Dates for Next Year \nLGBT Conference – Harrogate – 16 – 18 November
URL:https://uobunison.org.uk/event/lgbt-self-organised-group-meeting-24-livery-street-birmingham-2
LOCATION:24 Livery Street\, Birmingham\, B3 2PA
END:VEVENT
BEGIN:VEVENT
DTSTART;TZID=UTC:20181026T130000
DTEND;TZID=UTC:20181026T150000
DTSTAMP:20260421T174814
CREATED:20180914T145706Z
LAST-MODIFIED:20180914T145706Z
UID:1327-1540558800-1540566000@uobunison.org.uk
SUMMARY:Drop-in session (Alison)
DESCRIPTION:Drop-in session with Alison Dingle in the UNISON office. The office is located on the lower-ground floor of the Aston Webb building (WLG2). If you’d like to email Alison prior to the meeting\, here’s her address: a.dingle@bham.ac.uk
URL:https://uobunison.org.uk/event/drop-in-session-alison-8
LOCATION:UNISON Office (Aston Webb\, WLG2)
END:VEVENT
BEGIN:VEVENT
DTSTART;TZID=UTC:20181025T123000
DTEND;TZID=UTC:20181025T133000
DTSTAMP:20260421T174814
CREATED:20181013T104214Z
LAST-MODIFIED:20181013T104214Z
UID:1715-1540470600-1540474200@uobunison.org.uk
SUMMARY:Branch members' meeting
DESCRIPTION:
URL:https://uobunison.org.uk/event/branch-members-meeting-2
LOCATION:WG12 Aston Webb building
END:VEVENT
BEGIN:VEVENT
DTSTART;TZID=UTC:20181025T091500
DTEND;TZID=UTC:20181025T101500
DTSTAMP:20260421T174814
CREATED:20181013T101823Z
LAST-MODIFIED:20181013T102719Z
UID:1694-1540458900-1540462500@uobunison.org.uk
SUMMARY:Branch members' meeting
DESCRIPTION:
URL:https://uobunison.org.uk/event/branch-members-meetings
LOCATION:103 Alan Walters Building
END:VEVENT
BEGIN:VEVENT
DTSTART;TZID=UTC:20181020T100000
DTEND;TZID=UTC:20181020T160000
DTSTAMP:20260421T174814
CREATED:20180902T214113Z
LAST-MODIFIED:20180902T214113Z
UID:1267-1540029600-1540051200@uobunison.org.uk
SUMMARY:African Migrant Workers Seminar [Nottingham]
DESCRIPTION:Loading...\n						\n					\n					\n						\n							\n							Taking too long?\n						\n						\n							\n								 Reload document							\n							|\n							\n								 Open in new tab
URL:https://uobunison.org.uk/event/african-migrant-workers-seminar-nottingham
LOCATION:East Midlands Region Vivian Avenue Nottingham NG5 1AF
END:VEVENT
BEGIN:VEVENT
DTSTART;TZID=UTC:20181019T130000
DTEND;TZID=UTC:20181019T150000
DTSTAMP:20260421T174814
CREATED:20180914T145547Z
LAST-MODIFIED:20180914T145547Z
UID:1324-1539954000-1539961200@uobunison.org.uk
SUMMARY:Drop-in session (Alison)
DESCRIPTION:Drop-in session with Alison Dingle in the UNISON office. The office is located on the lower-ground floor of the Aston Webb building (WLG2). If you’d like to email Alison prior to the meeting\, here’s her address: a.dingle@bham.ac.uk
URL:https://uobunison.org.uk/event/drop-in-session-alison-7
LOCATION:UNISON Office (Aston Webb\, WLG2)
END:VEVENT
BEGIN:VEVENT
DTSTART;TZID=UTC:20181019T100000
DTEND;TZID=UTC:20181019T180000
DTSTAMP:20260421T174814
CREATED:20180905T155658Z
LAST-MODIFIED:20180905T155658Z
UID:1297-1539943200-1539972000@uobunison.org.uk
SUMMARY:UNISON National Black History Month event
DESCRIPTION:Please see link to register for UNISON National Black History Month event taking place on Friday 19th October. \nThis year guest speakers will include the general secretary Dave Prentis\, the president Gordon McKay\, and Patrick Vernon MBE\, Windrush campaigner. There will also be music from rap artist and songwriter Zara Sykes\, and violinist Rhiannon\, as well as presentations\, stalls\, refreshments and much more. \nhttps://www.unison.org.uk/events/unison-celebrates-black-trade-unionism-history-impact-music/
URL:https://uobunison.org.uk/event/unison-national-black-history-month-event
LOCATION:UNISON Centre 130 Euston Road London NW1 2AY
END:VEVENT
BEGIN:VEVENT
DTSTART;TZID=UTC:20181013T103000
DTEND;TZID=UTC:20181013T130000
DTSTAMP:20260421T174814
CREATED:20180917T154939Z
LAST-MODIFIED:20180917T155037Z
UID:1337-1539426600-1539435600@uobunison.org.uk
SUMMARY:Disabled Members' Self-Organised Group (Regional Birmingham branch)
DESCRIPTION:Disabled Members SOG will be held on Saturday 13 October 2018  at 10.30/11.00am in the West Midlands Regional Centre\, 24 Livery Street\, Birmingham B3 2PA.
URL:https://uobunison.org.uk/event/disabled-members-sog-regional-birmingham-branch
LOCATION:West Midlands Regional Centre\, 24 Livery Street\, Birmingham B3 2PA.
END:VEVENT
BEGIN:VEVENT
DTSTART;TZID=UTC:20181012T130000
DTEND;TZID=UTC:20181012T150000
DTSTAMP:20260421T174814
CREATED:20180914T145257Z
LAST-MODIFIED:20180914T145257Z
UID:1322-1539349200-1539356400@uobunison.org.uk
SUMMARY:Drop-in session (Alison)
DESCRIPTION:Drop-in session with Alison Dingle in the UNISON office. The office is located on the lower-ground floor of the Aston Webb building (WLG2). If you’d like to email Alison prior to the meeting\, here’s her address: a.dingle@bham.ac.uk
URL:https://uobunison.org.uk/event/drop-in-session-alison-6
LOCATION:UNISON Office (Aston Webb\, WLG2)
END:VEVENT
BEGIN:VEVENT
DTSTART;TZID=UTC:20181010T120000
DTEND;TZID=UTC:20181010T180000
DTSTAMP:20260421T174814
CREATED:20180917T154356Z
LAST-MODIFIED:20180917T154356Z
UID:1334-1539172800-1539194400@uobunison.org.uk
SUMMARY:Shoulder to Shoulder - National Rally
DESCRIPTION:SHOULDER TO SHOULDER \nNATIONAL RALLY \n#ONEVOICE #ONEVOICE #ONEVOICE #ONEVOICE #ONEVOICE #ONEVOICE \n10TH OCTOBER 2018 – \n12.00 – 3.00 pm at Reformers Tree\, Hyde Park.\n3.30 – 6.00 pm at Parliament Square. \nThe Waspi Campaign\, Back to 60\, We Paid In\, You Paid Out and other Women’s pension groups\nwill join together ‘Shoulder to Shoulder’ as #OneVoice “to hold the direction” for the forthcoming\nNational Rally on the 10th October in London in a joint endeavour to secure back their earned dues.\nBesides an open invitation to the public/loyal supporters all women affected by the changes in\nPension Provision are invited to attend.\nTogether they share the opinion that the implementation and tapering of the State Pension changes\nare wholly unacceptable.\nWe refuse any longer to be divided and ruled by those unfairly keeping our National Insurance\nContributions from us.\nSpeakers: Speakers at the SHOULDER TO SHOULDER #onevoice Rally are key figures in the political\nand legal dispute\, including David Hencke\, Yvette Greenway\, Sam Smethers\, Helen Shay and Frances\nBarber\, and others TBC will call for an end to the injustice.\nPress Enquiries:\nWaspi Campaign\nAnne Keen: waspigroupnetwork@gmail.com\nhttp://www.waspicampaign2018.co.uk\nRally Organisation and Press enquiries:\nZiggi Golding on 0739 635164 or Email: waspicampaignpr@gmail.com\nBackTo60.com\nJoanne Welch\nCampaign Director\n@2020Comms\n07729625784\nhello@backto60.com\n‘We Paid In\, You Paid Out’\nCampaign Director\nTrudy Baddams\n@wepaidinupayout\, https://wepaidinyoupayout.wordpress.com
URL:https://uobunison.org.uk/event/shoulder-to-shoulder-national-rally
END:VEVENT
BEGIN:VEVENT
DTSTART;TZID=UTC:20181009T170000
DTEND;TZID=UTC:20181009T190000
DTSTAMP:20260421T174814
CREATED:20180927T091236Z
LAST-MODIFIED:20180927T091257Z
UID:1577-1539104400-1539111600@uobunison.org.uk
SUMMARY:Black History Month - UNISON event
DESCRIPTION:UNISON BIRMINGHAM BRANCH BLACK MEMBERS INVITES YOU TO A BLACK HISTORY EVENT. \nTuesday 9 th October\, 2018\nMclaren Building\,\nDale End\,\nBirmingham.\n5.00pm start. \n  \nSpeaker: Horace Barnes from the WAWI project.\nThere will be a presentation on: Walter Tull\, Windrush\, Windrush Legacy\, and an introduction to the Ancestral Battle Standards.\nThere will also be a Q &amp; A Session with Ex-Military and NHS Personnel and the Black Police Federation.\nSinger “ Lightie’’ will be on stage supported by DJ “Sugar Junior” from New Style Radio.\nHot buffet will be provided.\nPlease email Gillian.Mcpherson@birminghamunison.co.uk to register your interest.
URL:https://uobunison.org.uk/event/black-history-month-unison-event
LOCATION:McLaren Building\, Dale End\, Birmingham
END:VEVENT
BEGIN:VEVENT
DTSTART;TZID=UTC:20181009T080000
DTEND;TZID=UTC:20181010T170000
DTSTAMP:20260421T174814
CREATED:20180723T145321Z
LAST-MODIFIED:20180723T145321Z
UID:1104-1539072000-1539190800@uobunison.org.uk
SUMMARY:2018 Retired Members’ Conference
DESCRIPTION:https://www.unison.org.uk/events/2018-retired-members-conference/
URL:https://uobunison.org.uk/event/2018-retired-members-conference
LOCATION:Bournemouth International Centre\, Exeter Rd\, Bournemouth BH2 5BH
END:VEVENT
BEGIN:VEVENT
DTSTART;TZID=UTC:20181005T130000
DTEND;TZID=UTC:20181005T150000
DTSTAMP:20260421T174814
CREATED:20180914T145104Z
LAST-MODIFIED:20180914T145104Z
UID:1320-1538744400-1538751600@uobunison.org.uk
SUMMARY:Drop-in session (Alison)
DESCRIPTION:Drop-in session with Alison Dingle in the UNISON office. The office is located on the lower-ground floor of the Aston Webb building (WLG2). If you’d like to email Alison prior to the meeting\, here’s her address: a.dingle@bham.ac.uk
URL:https://uobunison.org.uk/event/drop-in-session-alison-5
END:VEVENT
END:VCALENDAR