BEGIN:VCALENDAR
VERSION:2.0
PRODID:-//University of Birmingham UNISON - ECPv6.15.20//NONSGML v1.0//EN
CALSCALE:GREGORIAN
METHOD:PUBLISH
X-ORIGINAL-URL:https://uobunison.org.uk
X-WR-CALDESC:Events for University of Birmingham UNISON
REFRESH-INTERVAL;VALUE=DURATION:PT1H
X-Robots-Tag:noindex
X-PUBLISHED-TTL:PT1H
BEGIN:VTIMEZONE
TZID:UTC
BEGIN:STANDARD
TZOFFSETFROM:+0000
TZOFFSETTO:+0000
TZNAME:UTC
DTSTART:20170101T000000
END:STANDARD
END:VTIMEZONE
BEGIN:VEVENT
DTSTART;TZID=UTC:20180928T130000
DTEND;TZID=UTC:20180928T150000
DTSTAMP:20260421T223730
CREATED:20180914T144932Z
LAST-MODIFIED:20180914T144932Z
UID:1318-1538139600-1538146800@uobunison.org.uk
SUMMARY:Drop-in session (Alison)
DESCRIPTION:Drop-in session with Alison Dingle in the UNISON office. The office is located on the lower-ground floor of the Aston Webb building (WLG2). If you’d like to email Alison prior to the meeting\, here’s her address: a.dingle@bham.ac.uk
URL:https://uobunison.org.uk/event/drop-in-session-alison-4
LOCATION:UNISON Office (Aston Webb\, WLG2)
END:VEVENT
BEGIN:VEVENT
DTSTART;TZID=UTC:20180927T103000
DTEND;TZID=UTC:20180927T160000
DTSTAMP:20260421T223730
CREATED:20180723T145218Z
LAST-MODIFIED:20180723T145218Z
UID:1101-1538044200-1538064000@uobunison.org.uk
SUMMARY:UNISON Disabled Members Officer training
DESCRIPTION:https://www.unison.org.uk/events/unison-disabled-members-officer-training/ \n 
URL:https://uobunison.org.uk/event/unison-disabled-members-officer-training
LOCATION:UNISON\, UNISON Centre\, 130 Euston Road\, London NW1 2AY
END:VEVENT
BEGIN:VEVENT
DTSTART;TZID=UTC:20180927T080000
DTEND;TZID=UTC:20180929T170000
DTSTAMP:20260421T223730
CREATED:20180905T155849Z
LAST-MODIFIED:20180905T155849Z
UID:1301-1538035200-1538240400@uobunison.org.uk
SUMMARY:There For You (Charity) seminar
DESCRIPTION:There are still places on this year’s Seminar which will be held at UNISON Croyde Bay on 27-29 September. However you only have till 3 September to apply. For further information and registration form please see click on this link https://www.unison.org.uk/get-help/services-support/there-for-you/support-there-for-you/ or contact m.newell@unison.co.uk
URL:https://uobunison.org.uk/event/there-for-you-charity-seminar
LOCATION:UNISON Croyde Bay
END:VEVENT
BEGIN:VEVENT
DTSTART;TZID=UTC:20180918T130000
DTEND;TZID=UTC:20180918T140000
DTSTAMP:20260421T223730
CREATED:20180902T214318Z
LAST-MODIFIED:20180902T214522Z
UID:1271-1537275600-1537279200@uobunison.org.uk
SUMMARY:Branch members' meeting [LR3 Arts]
DESCRIPTION:Meeting to make decisions on the ongoing pay talks.
URL:https://uobunison.org.uk/event/branch-members-meeting
LOCATION:LR3 Arts Building
END:VEVENT
BEGIN:VEVENT
DTSTART;TZID=UTC:20180918T120000
DTEND;TZID=UTC:20180918T130000
DTSTAMP:20260421T223730
CREATED:20180902T214425Z
LAST-MODIFIED:20180902T214447Z
UID:1274-1537272000-1537275600@uobunison.org.uk
SUMMARY:Drop-in session to discuss our pay talks strategy [LR3 Arts]
DESCRIPTION:
URL:https://uobunison.org.uk/event/drop-in-session-to-discuss-our-pay-talks-strategy
LOCATION:LR3 Arts Building
END:VEVENT
BEGIN:VEVENT
DTSTART;TZID=UTC:20180914T100000
DTEND;TZID=UTC:20180914T150000
DTSTAMP:20260421T223730
CREATED:20180723T145119Z
LAST-MODIFIED:20180723T145119Z
UID:1098-1536919200-1536937200@uobunison.org.uk
SUMMARY:National UNISON Black LGBT members meeting
DESCRIPTION:https://www.unison.org.uk/events/national-unison-black-lgbt-members-meeting-3/
URL:https://uobunison.org.uk/event/national-unison-black-lgbt-members-meeting
LOCATION:UNISON Centre\, 130 Euston Road\, London\, NW1 2AY
END:VEVENT
BEGIN:VEVENT
DTSTART;TZID=UTC:20180913T100000
DTEND;TZID=UTC:20180913T150000
DTSTAMP:20260421T223730
CREATED:20180723T145037Z
LAST-MODIFIED:20180723T145037Z
UID:1095-1536832800-1536850800@uobunison.org.uk
SUMMARY:National UNISON Disabled LGBT members meeting
DESCRIPTION:https://www.unison.org.uk/events/national-unison-disabled-lgbt-members-meeting-3/ \n  \n 
URL:https://uobunison.org.uk/event/national-unison-disabled-lgbt-members-meeting
LOCATION:UNISON Centre\, 130 Euston Road\, London\, NW1 2AY
END:VEVENT
BEGIN:VEVENT
DTSTART;TZID=UTC:20180911T180000
DTEND;TZID=UTC:20180911T200000
DTSTAMP:20260421T223730
CREATED:20180903T114300Z
LAST-MODIFIED:20180903T115027Z
UID:1282-1536688800-1536696000@uobunison.org.uk
SUMMARY:Black Members' Self Organised Group
DESCRIPTION:Date: Tuesday\, 11 September 2018\nTime: 6.00 pm to 8.00 pm\nVenue: Osborne Meeting Room\, UNISON West Midlands Regional Centre\, \n24 Livery Street\, Birmingham\, B3 2PA. \n  \nAgenda: \n1. Welcome and Apologies\n2. Minutes of the meeting held on 5 June 2018 (Appendix No. )\n3. Matters Arising (not listed elsewhere on this Agenda)\n4. Information Gathering from Branches and Reports\n5. Nominations for:-\n5.1. Regional Council (1 General and 1 Women’s Seat);\n5.2. Regional Committee (1 General Seat)\n6. Financial Report (Appendix No. )\n7. SOG Officers Reports\n8. Representatives Report for National / Regional Committees\n9. 2019 National Black Members Conference\, Llandudno (18-20\nJanuary 2019)\n9.1. Delegates\n9.2. Deadlines \n10. Motions Report (Motions Subcommittee)\n10.1. Motions to Regional Council\n10.2. Motions to 2019 National Black Members Conference\n10.3. Amendments to Rule to 2019 National Black Members Conference \n11. Birmingham Care Workers Update\n12. Secretary to SOG Report (Simon Holder)\n12.1. Correspondence\n12.2. Mailing Lists\n13. Recruitment and Organising\n14. Calendar of Events / Work Plan 2018 (Events Subcommittee) (Appendix No. )\n14.1. International Day of Older People / Black History Month (Appendix No. )\n14.2. AGM and Black History Month Event – Saturday\, 24 November 2018\n14.3. National Black Members Pre-Conference Training – Saturday\, 5 January 2019 \n15. Training 2018\n16. ANY OTHER BUSINESS\n16.1. Nelson Mandela Award\n16.2. Future WMBMSOG Meeting Dates 2018:-\nAll meetings to be held at UNISON West Midlands Regional Centre\, 24 Livery Street\, Birmingham B3 2PA.\n Saturday\, 24 November 2018 – 10 am to 4 pm (AGM and Black History Month Event)
URL:https://uobunison.org.uk/event/black-member-self-organised-group
LOCATION:Osborne Meeting Room\, UNISON West Midlands Regional Centre\,  24 Livery Street\, Birmingham\, B3 2PA.
END:VEVENT
BEGIN:VEVENT
DTSTART;TZID=UTC:20180904T180000
DTEND;TZID=UTC:20180904T200000
DTSTAMP:20260421T223730
CREATED:20180903T120342Z
LAST-MODIFIED:20180903T120553Z
UID:1286-1536084000-1536091200@uobunison.org.uk
SUMMARY:LGBT Self Organised Group Meeting - 24 Livery Street\, Birmingham
DESCRIPTION:Tuesday 4 September 6pm start \n24 Livery Street\, Birmingham\, B3 2PA \nSnacks and Nibbles provided \n  \nSelection of West Midlands Delegates to LGBT Conference and discussion on Motions to Conference in November \n  \n  \n2018 Meeting Dates: \nTuesday 4 September (6pm onwards) – discussion on amendments to LGBT Conference motions and final selection of West Midlands LGBT Conference delegate. \nSaturday 3 November (11am onwards) – introduction to Conference session\, discussion on motions.  Planning for LGBT History Month and Dates for Next Year \nLGBT Conference – Harrogate – 16 – 18 November \nDeadline for submitting motions on behalf of your Branch: \n27 July \nDeadline for registering as a delegate to this conference: \n21 September
URL:https://uobunison.org.uk/event/lgbt-self-organised-group-meeting-24-livery-street-birmingham
LOCATION:24 Livery Street\, Birmingham\, B3 2PA
END:VEVENT
BEGIN:VEVENT
DTSTART;TZID=UTC:20180817T163000
DTEND;TZID=UTC:20180817T190000
DTSTAMP:20260421T223730
CREATED:20180719T141819Z
LAST-MODIFIED:20180723T145718Z
UID:1061-1534523400-1534532400@uobunison.org.uk
SUMMARY:Made in Dagenham free film screening (and free pizza)
DESCRIPTION:Made in Dagenham – Fri 17th August\, 4.30pm in Education Building
URL:https://uobunison.org.uk/event/made-in-dagenham-free-film-screening-and-free-pizza
LOCATION:Vaughan Jeffreys\, Education Building
END:VEVENT
BEGIN:VEVENT
DTSTART;TZID=UTC:20180809T140000
DTEND;TZID=UTC:20180809T163000
DTSTAMP:20260421T223730
CREATED:20180723T144939Z
LAST-MODIFIED:20180723T151228Z
UID:1092-1533823200-1533832200@uobunison.org.uk
SUMMARY:UNISON National Disabled Black Members network meeting
DESCRIPTION:https://www.unison.org.uk/events/unison-national-disabled-black-members-network-meeting-3/
URL:https://uobunison.org.uk/event/unison-national-disabled-black-members-network-meeting
LOCATION:UNISON\, UNISON Centre\, 130 Euston Road\, London NW1 2AY
END:VEVENT
BEGIN:VEVENT
DTSTART;TZID=UTC:20180809T110000
DTEND;TZID=UTC:20180809T133000
DTSTAMP:20260421T223730
CREATED:20180723T144752Z
LAST-MODIFIED:20180723T144858Z
UID:1089-1533812400-1533821400@uobunison.org.uk
SUMMARY:UNISON National Disabled Women Members network meeting
DESCRIPTION:https://www.unison.org.uk/events/unison-national-disabled-women-members-network-meeting-3/
URL:https://uobunison.org.uk/event/unison-national-disabled-women-members-network-meeting
LOCATION:UNISON\, UNISON Centre\, 130 Euston Road\, London NW1 2AY
END:VEVENT
BEGIN:VEVENT
DTSTART;TZID=UTC:20180808T140000
DTEND;TZID=UTC:20180808T163000
DTSTAMP:20260421T223730
CREATED:20180723T144705Z
LAST-MODIFIED:20180723T144705Z
UID:1086-1533736800-1533745800@uobunison.org.uk
SUMMARY:UNISON National Deaf (BSL) Members network meeting
DESCRIPTION:https://www.unison.org.uk/events/unison-national-deaf-bsl-members-network-meeting-2/ \n  \n 
URL:https://uobunison.org.uk/event/unison-national-deaf-bsl-members-network-meeting
LOCATION:UNISON\, UNISON Centre\, 130 Euston Road\, London NW1 2AY
END:VEVENT
BEGIN:VEVENT
DTSTART;TZID=UTC:20180808T110000
DTEND;TZID=UTC:20180808T133000
DTSTAMP:20260421T223730
CREATED:20180723T144459Z
LAST-MODIFIED:20180723T144528Z
UID:1081-1533726000-1533735000@uobunison.org.uk
SUMMARY:UNISON National Disabled LGBT Members network meeting
DESCRIPTION:https://www.unison.org.uk/events/unison-national-disabled-lgbt-members-network-meeting-3/
URL:https://uobunison.org.uk/event/unison-national-disabled-lgbt-members-network-meeting
LOCATION:UNISON\, UNISON Centre\, 130 Euston Road\, London NW1 2AY
END:VEVENT
BEGIN:VEVENT
DTSTART;TZID=UTC:20180803T130000
DTEND;TZID=UTC:20180803T150000
DTSTAMP:20260421T223730
CREATED:20180731T142959Z
LAST-MODIFIED:20180731T143002Z
UID:1209-1533301200-1533308400@uobunison.org.uk
SUMMARY:Drop-in session (Alison)
DESCRIPTION:Drop-in session with Alison Dingle in the UNISON office. The office is located on the lower-ground floor of the Aston Webb building (WLG2). If you’d like to email Alison prior to the meeting\, here’s her address: a.dingle@bham.ac.uk
URL:https://uobunison.org.uk/event/drop-in-session-alison-2
LOCATION:UNISON Office (Aston Webb\, WLG2)
END:VEVENT
BEGIN:VEVENT
DTSTART;TZID=UTC:20180727T130000
DTEND;TZID=UTC:20180727T140000
DTSTAMP:20260421T223730
CREATED:20180727T103917Z
LAST-MODIFIED:20180727T103923Z
UID:1186-1532696400-1532700000@uobunison.org.uk
SUMMARY:Drop-in session (Ioana)
DESCRIPTION:UNISON Office (WLG2\, Aston Webb)
URL:https://uobunison.org.uk/event/drop-in-session-ioana-2
END:VEVENT
BEGIN:VEVENT
DTSTART;TZID=UTC:20180726T120000
DTEND;TZID=UTC:20180726T140000
DTSTAMP:20260421T223730
CREATED:20180723T150532Z
LAST-MODIFIED:20180723T150749Z
UID:1120-1532606400-1532613600@uobunison.org.uk
SUMMARY:Drop-in session with Ioana
DESCRIPTION:Drop-in session with Ioana in 119 Arts Building. If you need to email Ioana prior to the meeting\, her email address is ioana.unison@gmail.com
URL:https://uobunison.org.uk/event/drop-in-session-with-ioana-3
LOCATION:119 Arts Building
END:VEVENT
BEGIN:VEVENT
DTSTART;TZID=UTC:20180720T130000
DTEND;TZID=UTC:20180720T150000
DTSTAMP:20260421T223730
CREATED:20180701T120951Z
LAST-MODIFIED:20180723T151026Z
UID:860-1532091600-1532098800@uobunison.org.uk
SUMMARY:Drop-in session with Alison
DESCRIPTION:Drop-in session with Alison Dingle in the UNISON office. The office is located on the lower-ground floor of the Aston Webb building (WLG2). If you’d like to email Alison prior to the meeting\, here’s her address: a.dingle@bham.ac.uk
URL:https://uobunison.org.uk/event/drop-in-session-with-alison-2
END:VEVENT
BEGIN:VEVENT
DTSTART;TZID=UTC:20180719T150000
DTEND;TZID=UTC:20180719T170000
DTSTAMP:20260421T223730
CREATED:20180717T123656Z
LAST-MODIFIED:20180723T151013Z
UID:1046-1532012400-1532019600@uobunison.org.uk
SUMMARY:Drop-in session with Ioana
DESCRIPTION:Drop-in session with Ioana Chis\, G18 Nuffield Building. If you’d like to email Ioana prior to the meeting\, here’s her address: ioana.unison@gmail.com
URL:https://uobunison.org.uk/event/drop-in-session-with-ioana-2
LOCATION:G18 Nuffield Building
END:VEVENT
BEGIN:VEVENT
DTSTART;TZID=UTC:20180713T130000
DTEND;TZID=UTC:20180713T150000
DTSTAMP:20260421T223730
CREATED:20180701T120904Z
LAST-MODIFIED:20180723T150930Z
UID:855-1531486800-1531494000@uobunison.org.uk
SUMMARY:Drop-in session with Alison
DESCRIPTION:Drop-in session with Alison Dingle in the UNISON office. The office is located on the lower-ground floor of the Aston Webb building (WLG2). If you’d like to email Alison prior to the meeting\, here’s her address: a.dingle@bham.ac.uk
URL:https://uobunison.org.uk/event/drop-in-session-with-alison
END:VEVENT
BEGIN:VEVENT
DTSTART;TZID=UTC:20180712T110000
DTEND;TZID=UTC:20180712T130000
DTSTAMP:20260421T223730
CREATED:20180701T121131Z
LAST-MODIFIED:20180723T150917Z
UID:862-1531393200-1531400400@uobunison.org.uk
SUMMARY:Drop-in session with Ioana
DESCRIPTION:Drop-in session with Ioana Chis\, 119 Arts Building. If you’d like to email Ioana prior to the meeting\, here’s her address: ioana.cerasella.chis@gmail.com \n 
URL:https://uobunison.org.uk/event/drop-in-session-with-ioana
LOCATION:119 Arts Building
END:VEVENT
BEGIN:VEVENT
DTSTART;TZID=UTC:20180706T130000
DTEND;TZID=UTC:20180706T150000
DTSTAMP:20260421T223730
CREATED:20180701T120813Z
LAST-MODIFIED:20180723T151151Z
UID:854-1530882000-1530889200@uobunison.org.uk
SUMMARY:Drop-in session with Alison
DESCRIPTION:Drop-in session with Alison Dingle in the UNISON office. The office is located on the lower-ground floor of the Aston Webb building (WLG2). If you’d like to email Alison prior to the meeting\, here’s her address: a.dingle@bham.ac.uk
URL:https://uobunison.org.uk/event/drop-in-session
LOCATION:UNISON Office (Aston Webb\, WLG2)
END:VEVENT
BEGIN:VEVENT
DTSTART;TZID=UTC:20180629T130000
DTEND;TZID=UTC:20180629T150000
DTSTAMP:20260421T223730
CREATED:20180628T124037Z
LAST-MODIFIED:20180723T151135Z
UID:839-1530277200-1530284400@uobunison.org.uk
SUMMARY:Drop-in session (Alison)
DESCRIPTION:Drop-in session with Alison Dingle \nFriday 29th June\, 1.00 – 3.00pm in the UNISON Office (Aston Webb\, WLG2)
URL:https://uobunison.org.uk/event/drop-in-session-alison
END:VEVENT
BEGIN:VEVENT
DTSTART;TZID=UTC:20180628T120000
DTEND;TZID=UTC:20180628T150000
DTSTAMP:20260421T223730
CREATED:20180628T123942Z
LAST-MODIFIED:20180723T151126Z
UID:837-1530187200-1530198000@uobunison.org.uk
SUMMARY:Drop-in session (Ioana)
DESCRIPTION:With Ioana Cerasella Chis \n28th June\, 12.00 – 3.00pm in G18 Nuffield Building
URL:https://uobunison.org.uk/event/drop-in-session-ioana
END:VEVENT
BEGIN:VEVENT
DTSTART;TZID=UTC:20180626T130000
DTEND;TZID=UTC:20180626T140000
DTSTAMP:20260421T223730
CREATED:20180624T192729Z
LAST-MODIFIED:20180723T151109Z
UID:744-1530018000-1530021600@uobunison.org.uk
SUMMARY:Members meeting
DESCRIPTION:Events around the country: https://www.unison.org.uk/events/
URL:https://uobunison.org.uk/event/members-meeting
LOCATION:Lecture Room 3\, Arts Building
END:VEVENT
END:VCALENDAR